Package: fcScan Version: 1.22.0 Command: /home/biocbuild/R/R/bin/R CMD build --keep-empty-dirs --no-resave-data fcScan StartedAt: 2025-10-14 00:50:42 -0000 (Tue, 14 Oct 2025) EndedAt: 2025-10-14 00:51:57 -0000 (Tue, 14 Oct 2025) EllapsedTime: 75.0 seconds RetCode: 0 Status: OK PackageFile: fcScan_1.22.0.tar.gz PackageFileSize: 268 KiB