Package: fastseg Version: 1.54.0 Command: /home/biocbuild/bbs-3.21-bioc/R/bin/R CMD INSTALL fastseg StartedAt: 2025-10-15 15:23:55 -0400 (Wed, 15 Oct 2025) EndedAt: 2025-10-15 15:24:07 -0400 (Wed, 15 Oct 2025) EllapsedTime: 11.8 seconds RetCode: 0 Status: OK