Package: fastseg Version: 1.54.0 Command: /home/biocbuild/bbs-3.21-bioc/R/bin/R CMD build --keep-empty-dirs --no-resave-data fastseg StartedAt: 2025-10-15 17:29:20 -0400 (Wed, 15 Oct 2025) EndedAt: 2025-10-15 17:30:07 -0400 (Wed, 15 Oct 2025) EllapsedTime: 47.1 seconds RetCode: 0 Status: OK PackageFile: fastseg_1.54.0.tar.gz PackageFileSize: 719.1 KiB