Package: fastseg Version: 1.54.0 Command: /home/biocbuild/R/R/bin/R CMD build --keep-empty-dirs --no-resave-data fastseg StartedAt: 2025-10-14 00:50:06 -0000 (Tue, 14 Oct 2025) EndedAt: 2025-10-14 00:51:01 -0000 (Tue, 14 Oct 2025) EllapsedTime: 55.1 seconds RetCode: 0 Status: OK PackageFile: fastseg_1.54.0.tar.gz PackageFileSize: 704.3 KiB