Package: fastseg Version: 1.54.0 Command: /Library/Frameworks/R.framework/Resources/bin/R CMD INSTALL fastseg StartedAt: 2025-10-13 16:36:37 -0400 (Mon, 13 Oct 2025) EndedAt: 2025-10-13 16:36:52 -0400 (Mon, 13 Oct 2025) EllapsedTime: 14.9 seconds RetCode: 0 Status: OK