Package: fastseg Version: 1.54.0 Command: rm -rf fastseg.buildbin-libdir && mkdir fastseg.buildbin-libdir && /Users/biocbuild/BBS/utils/build-universal.sh fastseg_1.54.0.tar.gz /Library/Frameworks/R.framework/Resources/bin/R fastseg.buildbin-libdir StartedAt: 2025-10-15 18:29:03 -0400 (Wed, 15 Oct 2025) EndedAt: 2025-10-15 18:29:21 -0400 (Wed, 15 Oct 2025) EllapsedTime: 18.0 seconds RetCode: 0 Status: OK PackageFile: fastseg_1.54.0.tgz PackageFileSize: 765.3 KiB