Package: fastreeR Version: 1.11.0 Command: rm -rf fastreeR.buildbin-libdir && mkdir fastreeR.buildbin-libdir && /Users/biocbuild/BBS/utils/build-universal.sh fastreeR_1.11.0.tar.gz /Library/Frameworks/R.framework/Resources/bin/R fastreeR.buildbin-libdir StartedAt: 2025-03-21 01:12:34 -0400 (Fri, 21 Mar 2025) EndedAt: 2025-03-21 01:12:41 -0400 (Fri, 21 Mar 2025) EllapsedTime: 7.0 seconds RetCode: 0 Status: OK PackageFile: fastreeR_1.11.0.tgz PackageFileSize: 2.106 MiB