Package: fastreeR Version: 1.12.5 Command: /home/biocbuild/R/R/bin/R CMD INSTALL fastreeR StartedAt: 2025-10-13 20:17:45 -0000 (Mon, 13 Oct 2025) EndedAt: 2025-10-13 20:18:37 -0000 (Mon, 13 Oct 2025) EllapsedTime: 52.1 seconds RetCode: 0 Status: OK