Package: fastLiquidAssociation Version: 1.44.0 Command: /home/biocbuild/R/R/bin/R CMD INSTALL fastLiquidAssociation StartedAt: 2025-10-13 21:05:02 -0000 (Mon, 13 Oct 2025) EndedAt: 2025-10-13 21:05:32 -0000 (Mon, 13 Oct 2025) EllapsedTime: 30.2 seconds RetCode: 0 Status: OK