Package: fastLiquidAssociation Version: 1.44.0 Command: /home/biocbuild/R/R/bin/R CMD build --keep-empty-dirs --no-resave-data fastLiquidAssociation StartedAt: 2025-10-14 00:49:43 -0000 (Tue, 14 Oct 2025) EndedAt: 2025-10-14 00:51:22 -0000 (Tue, 14 Oct 2025) EllapsedTime: 99.1 seconds RetCode: 0 Status: OK PackageFile: fastLiquidAssociation_1.44.0.tar.gz PackageFileSize: 735.6 KiB