Package: factR Version: 1.10.0 Command: /home/biocbuild/R/R/bin/R CMD build --keep-empty-dirs --no-resave-data factR StartedAt: 2025-10-14 00:49:24 -0000 (Tue, 14 Oct 2025) EndedAt: 2025-10-14 00:54:39 -0000 (Tue, 14 Oct 2025) EllapsedTime: 315.1 seconds RetCode: 0 Status: OK PackageFile: factR_1.10.0.tar.gz PackageFileSize: 1.723 MiB