Package: factDesign Version: 1.84.0 Command: /home/biocbuild/bbs-3.21-bioc/R/bin/R CMD build --keep-empty-dirs --no-resave-data factDesign StartedAt: 2025-10-15 17:28:53 -0400 (Wed, 15 Oct 2025) EndedAt: 2025-10-15 17:29:02 -0400 (Wed, 15 Oct 2025) EllapsedTime: 9.0 seconds RetCode: 0 Status: OK PackageFile: factDesign_1.84.0.tar.gz PackageFileSize: 217 KiB