Package: factDesign Version: 1.84.0 Command: /home/biocbuild/R/R/bin/R CMD INSTALL factDesign StartedAt: 2025-10-13 20:24:30 -0000 (Mon, 13 Oct 2025) EndedAt: 2025-10-13 20:24:34 -0000 (Mon, 13 Oct 2025) EllapsedTime: 3.4 seconds RetCode: 0 Status: OK