Package: factDesign Version: 1.84.0 Command: /home/biocbuild/R/R/bin/R CMD build --keep-empty-dirs --no-resave-data factDesign StartedAt: 2025-10-14 00:49:13 -0000 (Tue, 14 Oct 2025) EndedAt: 2025-10-14 00:49:25 -0000 (Tue, 14 Oct 2025) EllapsedTime: 12.0 seconds RetCode: 0 Status: OK PackageFile: factDesign_1.84.0.tar.gz PackageFileSize: 209.5 KiB