Package: evaluomeR Version: 1.24.0 Command: /home/biocbuild/R/R/bin/R CMD INSTALL evaluomeR StartedAt: 2025-10-13 20:48:08 -0000 (Mon, 13 Oct 2025) EndedAt: 2025-10-13 20:49:06 -0000 (Mon, 13 Oct 2025) EllapsedTime: 58.1 seconds RetCode: 0 Status: OK