Package: evaluomeR Version: 1.24.0 Command: rm -rf evaluomeR.buildbin-libdir && mkdir evaluomeR.buildbin-libdir && /Users/biocbuild/BBS/utils/build-universal.sh evaluomeR_1.24.0.tar.gz /Library/Frameworks/R.framework/Resources/bin/R evaluomeR.buildbin-libdir StartedAt: 2025-10-15 18:27:24 -0400 (Wed, 15 Oct 2025) EndedAt: 2025-10-15 18:28:05 -0400 (Wed, 15 Oct 2025) EllapsedTime: 40.9 seconds RetCode: 0 Status: OK PackageFile: evaluomeR_1.24.0.tgz PackageFileSize: 777.7 KiB