Package: erccdashboard Version: 1.42.0 Command: /home/biocbuild/R/R/bin/R CMD INSTALL erccdashboard StartedAt: 2025-10-13 20:19:37 -0000 (Mon, 13 Oct 2025) EndedAt: 2025-10-13 20:19:48 -0000 (Mon, 13 Oct 2025) EllapsedTime: 11.3 seconds RetCode: 0 Status: OK