Package: erccdashboard Version: 1.42.0 Command: /home/biocbuild/R/R/bin/R CMD build --keep-empty-dirs --no-resave-data erccdashboard StartedAt: 2025-10-14 00:44:40 -0000 (Tue, 14 Oct 2025) EndedAt: 2025-10-14 00:45:50 -0000 (Tue, 14 Oct 2025) EllapsedTime: 70.0 seconds RetCode: 0 Status: OK PackageFile: erccdashboard_1.42.0.tar.gz PackageFileSize: 2.064 MiB