Package: epivizrChart Version: 1.30.0 Command: /home/biocbuild/bbs-3.21-bioc/R/bin/R CMD INSTALL epivizrChart StartedAt: 2025-10-15 15:41:57 -0400 (Wed, 15 Oct 2025) EndedAt: 2025-10-15 15:42:43 -0400 (Wed, 15 Oct 2025) EllapsedTime: 45.8 seconds RetCode: 0 Status: OK