Package: epivizrChart Version: 1.30.0 Command: /home/biocbuild/bbs-3.21-bioc/R/bin/R CMD build --keep-empty-dirs --no-resave-data epivizrChart StartedAt: 2025-10-15 17:25:05 -0400 (Wed, 15 Oct 2025) EndedAt: 2025-10-15 17:26:55 -0400 (Wed, 15 Oct 2025) EllapsedTime: 110.0 seconds RetCode: 0 Status: OK PackageFile: epivizrChart_1.30.0.tar.gz PackageFileSize: 5.303 MiB