Package: epivizrChart Version: 1.30.0 Command: /home/biocbuild/R/R/bin/R CMD INSTALL epivizrChart StartedAt: 2025-10-13 20:58:54 -0000 (Mon, 13 Oct 2025) EndedAt: 2025-10-13 21:00:00 -0000 (Mon, 13 Oct 2025) EllapsedTime: 65.7 seconds RetCode: 0 Status: OK