Package: epivizrChart Version: 1.30.0 Command: /Library/Frameworks/R.framework/Resources/bin/R CMD INSTALL epivizrChart StartedAt: 2025-10-13 17:25:54 -0400 (Mon, 13 Oct 2025) EndedAt: 2025-10-13 17:26:47 -0400 (Mon, 13 Oct 2025) EllapsedTime: 53.6 seconds RetCode: 0 Status: OK