Package: epivizrChart Version: 1.30.0 Command: /Library/Frameworks/R.framework/Resources/bin/R CMD build --keep-empty-dirs --no-resave-data epivizrChart StartedAt: 2025-10-14 00:05:51 -0400 (Tue, 14 Oct 2025) EndedAt: 2025-10-14 00:08:17 -0400 (Tue, 14 Oct 2025) EllapsedTime: 146.1 seconds RetCode: 0 Status: OK PackageFile: epivizrChart_1.30.0.tar.gz PackageFileSize: 5.303 MiB