Package: epivizrChart Version: 1.30.0 Command: rm -rf epivizrChart.buildbin-libdir && mkdir epivizrChart.buildbin-libdir && /Users/biocbuild/BBS/utils/build-universal.sh epivizrChart_1.30.0.tar.gz /Library/Frameworks/R.framework/Resources/bin/R epivizrChart.buildbin-libdir StartedAt: 2025-10-15 18:25:29 -0400 (Wed, 15 Oct 2025) EndedAt: 2025-10-15 18:26:31 -0400 (Wed, 15 Oct 2025) EllapsedTime: 62.4 seconds RetCode: 0 Status: OK PackageFile: epivizrChart_1.30.0.tgz PackageFileSize: 6.257 MiB