Package: epistack Version: 1.14.0 Command: /Library/Frameworks/R.framework/Resources/bin/R CMD INSTALL epistack StartedAt: 2025-04-21 15:13:44 -0400 (Mon, 21 Apr 2025) EndedAt: 2025-04-21 15:13:52 -0400 (Mon, 21 Apr 2025) EllapsedTime: 8.4 seconds RetCode: 0 Status: OK