Package: epimutacions Version: 1.12.0 Command: rm -rf epimutacions.buildbin-libdir && mkdir epimutacions.buildbin-libdir && /Users/biocbuild/BBS/utils/build-universal.sh epimutacions_1.12.0.tar.gz /Library/Frameworks/R.framework/Resources/bin/R epimutacions.buildbin-libdir StartedAt: 2025-04-21 22:34:21 -0400 (Mon, 21 Apr 2025) EndedAt: 2025-04-21 22:34:45 -0400 (Mon, 21 Apr 2025) EllapsedTime: 23.5 seconds RetCode: 0 Status: OK PackageFile: epimutacions_1.12.0.tgz PackageFileSize: 1.657 MiB