Package: epidecodeR Version: 1.16.0 Command: /home/biocbuild/R/R/bin/R CMD INSTALL epidecodeR StartedAt: 2025-10-13 20:41:05 -0000 (Mon, 13 Oct 2025) EndedAt: 2025-10-13 20:41:51 -0000 (Mon, 13 Oct 2025) EllapsedTime: 46.2 seconds RetCode: 0 Status: OK