Package: ensembldb Version: 2.32.0 Command: rm -rf ensembldb.buildbin-libdir && mkdir ensembldb.buildbin-libdir && /Users/biocbuild/BBS/utils/build-universal.sh ensembldb_2.32.0.tar.gz /Library/Frameworks/R.framework/Resources/bin/R ensembldb.buildbin-libdir StartedAt: 2025-10-14 13:22:20 -0400 (Tue, 14 Oct 2025) EndedAt: 2025-10-14 13:24:24 -0400 (Tue, 14 Oct 2025) EllapsedTime: 124.1 seconds RetCode: 0 Status: OK PackageFile: ensembldb_2.32.0.tgz PackageFileSize: 3.601 MiB