Package: ensembldb Version: 2.32.0 Command: /home/biocbuild/R/R/bin/R CMD INSTALL ensembldb StartedAt: 2025-10-13 20:54:08 -0000 (Mon, 13 Oct 2025) EndedAt: 2025-10-13 20:55:07 -0000 (Mon, 13 Oct 2025) EllapsedTime: 59.6 seconds RetCode: 0 Status: OK