Package: ensembldb Version: 2.32.0 Command: /home/biocbuild/R/R/bin/R CMD build --keep-empty-dirs --no-resave-data ensembldb StartedAt: 2025-10-14 00:37:30 -0000 (Tue, 14 Oct 2025) EndedAt: 2025-10-14 00:40:11 -0000 (Tue, 14 Oct 2025) EllapsedTime: 161.0 seconds RetCode: 0 Status: OK PackageFile: ensembldb_2.32.0.tar.gz PackageFileSize: 3.564 MiB