Package: enrichViewNet Version: 1.6.1 Command: rm -rf enrichViewNet.buildbin-libdir && mkdir enrichViewNet.buildbin-libdir && E:\biocbuild\bbs-3.21-bioc\R\bin\R.exe CMD INSTALL --build --library=enrichViewNet.buildbin-libdir enrichViewNet_1.6.1.tar.gz StartedAt: 2025-08-15 09:14:26 -0400 (Fri, 15 Aug 2025) EndedAt: 2025-08-15 09:15:13 -0400 (Fri, 15 Aug 2025) EllapsedTime: 46.3 seconds RetCode: 0 Status: OK PackageFile: enrichViewNet_1.6.1.zip PackageFileSize: 2.507 MiB