Package: enrichViewNet Version: 1.6.2 Command: /Library/Frameworks/R.framework/Resources/bin/R CMD INSTALL enrichViewNet StartedAt: 2025-10-13 16:29:29 -0400 (Mon, 13 Oct 2025) EndedAt: 2025-10-13 16:30:21 -0400 (Mon, 13 Oct 2025) EllapsedTime: 51.5 seconds RetCode: 0 Status: OK