Package: enrichViewNet Version: 1.6.2 Command: /Library/Frameworks/R.framework/Resources/bin/R CMD build --keep-empty-dirs --no-resave-data enrichViewNet StartedAt: 2025-10-13 18:50:59 -0400 (Mon, 13 Oct 2025) EndedAt: 2025-10-13 18:53:11 -0400 (Mon, 13 Oct 2025) EllapsedTime: 132.0 seconds RetCode: 0 Status: OK PackageFile: enrichViewNet_1.6.2.tar.gz PackageFileSize: 4.38 MiB