Package: enrichViewNet Version: 1.6.2 Command: rm -rf enrichViewNet.buildbin-libdir && mkdir enrichViewNet.buildbin-libdir && /Users/biocbuild/BBS/utils/build-universal.sh enrichViewNet_1.6.2.tar.gz /Library/Frameworks/R.framework/Resources/bin/R enrichViewNet.buildbin-libdir StartedAt: 2025-10-14 13:22:19 -0400 (Tue, 14 Oct 2025) EndedAt: 2025-10-14 13:23:32 -0400 (Tue, 14 Oct 2025) EllapsedTime: 73.7 seconds RetCode: 0 Status: OK PackageFile: enrichViewNet_1.6.2.tgz PackageFileSize: 3.484 MiB