Package: enrichViewNet Version: 1.6.2 Command: /home/biocbuild/R/R/bin/R CMD build --keep-empty-dirs --no-resave-data enrichViewNet StartedAt: 2025-10-14 00:37:08 -0000 (Tue, 14 Oct 2025) EndedAt: 2025-10-14 00:37:58 -0000 (Tue, 14 Oct 2025) EllapsedTime: 50.0 seconds RetCode: 1 Status: ERROR PackageFile: None PackageFileSize: NA