Package: enrichViewNet Version: 1.6.2 Command: /Library/Frameworks/R.framework/Resources/bin/R CMD build --keep-empty-dirs --no-resave-data enrichViewNet StartedAt: 2025-10-13 23:53:35 -0400 (Mon, 13 Oct 2025) EndedAt: 2025-10-13 23:54:36 -0400 (Mon, 13 Oct 2025) EllapsedTime: 61.7 seconds RetCode: 0 Status: OK PackageFile: enrichViewNet_1.6.2.tar.gz PackageFileSize: 4.396 MiB