Package: enrichViewNet Version: 1.6.2 Maintainer: Astrid DeschĂȘnes MaintainerEmail: adeschen at hotmail.com git_url: https://git.bioconductor.org/packages/enrichViewNet git_branch: RELEASE_3_21 git_last_commit: f6b81d2 git_last_commit_date: 2025-10-03 14:51:29 -0400 (Fri, 03 Oct 2025)