Package: eisaR Version: 1.20.0 Command: /home/biocbuild/R/R/bin/R CMD INSTALL eisaR StartedAt: 2025-10-13 20:37:40 -0000 (Mon, 13 Oct 2025) EndedAt: 2025-10-13 20:38:09 -0000 (Mon, 13 Oct 2025) EllapsedTime: 29.5 seconds RetCode: 0 Status: OK