Package: eiR Version: 1.48.0 Command: /home/biocbuild/R/R/bin/R CMD INSTALL eiR StartedAt: 2025-10-13 20:24:09 -0000 (Mon, 13 Oct 2025) EndedAt: 2025-10-13 20:24:22 -0000 (Mon, 13 Oct 2025) EllapsedTime: 13.3 seconds RetCode: 0 Status: OK