Package: eiR Version: 1.48.0 Command: /home/biocbuild/R/R/bin/R CMD build --keep-empty-dirs --no-resave-data eiR StartedAt: 2025-10-14 00:33:07 -0000 (Tue, 14 Oct 2025) EndedAt: 2025-10-14 00:33:34 -0000 (Tue, 14 Oct 2025) EllapsedTime: 27.0 seconds RetCode: 0 Status: OK PackageFile: eiR_1.48.0.tar.gz PackageFileSize: 507.5 KiB