Package: edgeR Version: 4.6.3 Command: /home/biocbuild/R/R/bin/R CMD INSTALL edgeR StartedAt: 2025-10-13 20:13:35 -0000 (Mon, 13 Oct 2025) EndedAt: 2025-10-13 20:14:24 -0000 (Mon, 13 Oct 2025) EllapsedTime: 49.3 seconds RetCode: 0 Status: OK