Package: edgeR Version: 4.6.3 Command: /home/biocbuild/R/R/bin/R CMD build --keep-empty-dirs --no-resave-data edgeR StartedAt: 2025-10-14 00:32:36 -0000 (Tue, 14 Oct 2025) EndedAt: 2025-10-14 00:33:04 -0000 (Tue, 14 Oct 2025) EllapsedTime: 28.0 seconds RetCode: 0 Status: OK PackageFile: edgeR_4.6.3.tar.gz PackageFileSize: 3.481 MiB