Package: easyreporting Version: 1.20.0 Command: /Library/Frameworks/R.framework/Resources/bin/R CMD INSTALL easyreporting StartedAt: 2025-10-13 15:13:45 -0400 (Mon, 13 Oct 2025) EndedAt: 2025-10-13 15:14:18 -0400 (Mon, 13 Oct 2025) EllapsedTime: 33.1 seconds RetCode: 0 Status: OK