Package: easyreporting Version: 1.20.0 Command: /Library/Frameworks/R.framework/Resources/bin/R CMD build --keep-empty-dirs --no-resave-data easyreporting StartedAt: 2025-10-13 23:42:44 -0400 (Mon, 13 Oct 2025) EndedAt: 2025-10-13 23:42:55 -0400 (Mon, 13 Oct 2025) EllapsedTime: 11.3 seconds RetCode: 0 Status: OK PackageFile: easyreporting_1.20.0.tar.gz PackageFileSize: 2.94 MiB