Package: easyreporting Version: 1.20.0 Command: rm -rf easyreporting.buildbin-libdir && mkdir easyreporting.buildbin-libdir && /Users/biocbuild/BBS/utils/build-universal.sh easyreporting_1.20.0.tar.gz /Library/Frameworks/R.framework/Resources/bin/R easyreporting.buildbin-libdir StartedAt: 2025-10-15 18:19:53 -0400 (Wed, 15 Oct 2025) EndedAt: 2025-10-15 18:20:00 -0400 (Wed, 15 Oct 2025) EllapsedTime: 6.8 seconds RetCode: 0 Status: OK PackageFile: easyreporting_1.20.0.tgz PackageFileSize: 3.109 MiB