Package: easyRNASeq Version: 2.44.0 Command: /home/biocbuild/R/R/bin/R CMD build --keep-empty-dirs --no-resave-data easyRNASeq StartedAt: 2025-10-14 00:31:35 -0000 (Tue, 14 Oct 2025) EndedAt: 2025-10-14 00:37:42 -0000 (Tue, 14 Oct 2025) EllapsedTime: 367.1 seconds RetCode: 0 Status: OK PackageFile: easyRNASeq_2.44.0.tar.gz PackageFileSize: 69.57 MiB