Package: easier Version: 1.14.0 Command: /home/biocbuild/bbs-3.21-bioc/R/bin/R CMD build --keep-empty-dirs --no-resave-data easier StartedAt: 2025-10-15 17:19:12 -0400 (Wed, 15 Oct 2025) EndedAt: 2025-10-15 17:24:00 -0400 (Wed, 15 Oct 2025) EllapsedTime: 288.4 seconds RetCode: 0 Status: OK PackageFile: easier_1.14.0.tar.gz PackageFileSize: 3.673 MiB