Package: easier Version: 1.14.0 Command: /home/biocbuild/R/R/bin/R CMD build --keep-empty-dirs --no-resave-data easier StartedAt: 2025-10-14 00:31:14 -0000 (Tue, 14 Oct 2025) EndedAt: 2025-10-14 00:39:16 -0000 (Tue, 14 Oct 2025) EllapsedTime: 482.1 seconds RetCode: 0 Status: OK PackageFile: easier_1.14.0.tar.gz PackageFileSize: 3.441 MiB