Package: dupRadar Version: 1.38.0 Command: /home/biocbuild/R/R/bin/R CMD build --keep-empty-dirs --no-resave-data dupRadar StartedAt: 2025-10-14 00:30:55 -0000 (Tue, 14 Oct 2025) EndedAt: 2025-10-14 00:31:50 -0000 (Tue, 14 Oct 2025) EllapsedTime: 55.0 seconds RetCode: 0 Status: OK PackageFile: dupRadar_1.38.0.tar.gz PackageFileSize: 3.754 MiB