Package: dreamlet Version: 1.6.0 Command: /home/biocbuild/bbs-3.21-bioc/R/bin/R CMD build --keep-empty-dirs --no-resave-data dreamlet StartedAt: 2025-10-15 17:18:00 -0400 (Wed, 15 Oct 2025) EndedAt: 2025-10-15 17:24:19 -0400 (Wed, 15 Oct 2025) EllapsedTime: 379.5 seconds RetCode: 0 Status: OK PackageFile: dreamlet_1.6.0.tar.gz PackageFileSize: 4.344 MiB